BEGIN:VCALENDAR
VERSION:2.0
PRODID:-//Delaware State Pistol Club - ECPv6.15.20//NONSGML v1.0//EN
CALSCALE:GREGORIAN
METHOD:PUBLISH
X-WR-CALNAME:Delaware State Pistol Club
X-ORIGINAL-URL:https://dspclub.org
X-WR-CALDESC:Events for Delaware State Pistol Club
REFRESH-INTERVAL;VALUE=DURATION:PT1H
X-Robots-Tag:noindex
X-PUBLISHED-TTL:PT1H
BEGIN:VTIMEZONE
TZID:America/New_York
BEGIN:DAYLIGHT
TZOFFSETFROM:-0500
TZOFFSETTO:-0400
TZNAME:EDT
DTSTART:20250309T070000
END:DAYLIGHT
BEGIN:STANDARD
TZOFFSETFROM:-0400
TZOFFSETTO:-0500
TZNAME:EST
DTSTART:20251102T060000
END:STANDARD
BEGIN:DAYLIGHT
TZOFFSETFROM:-0500
TZOFFSETTO:-0400
TZNAME:EDT
DTSTART:20260308T070000
END:DAYLIGHT
BEGIN:STANDARD
TZOFFSETFROM:-0400
TZOFFSETTO:-0500
TZNAME:EST
DTSTART:20261101T060000
END:STANDARD
BEGIN:DAYLIGHT
TZOFFSETFROM:-0500
TZOFFSETTO:-0400
TZNAME:EDT
DTSTART:20270314T070000
END:DAYLIGHT
BEGIN:STANDARD
TZOFFSETFROM:-0400
TZOFFSETTO:-0500
TZNAME:EST
DTSTART:20271107T060000
END:STANDARD
END:VTIMEZONE
BEGIN:VEVENT
DTSTART;TZID=America/New_York:20260323T170000
DTEND;TZID=America/New_York:20260323T210000
DTSTAMP:20260422T112148
CREATED:20260209T110512Z
LAST-MODIFIED:20260209T110513Z
UID:10011594-1774285200-1774299600@dspclub.org
SUMMARY:Action Pistol
DESCRIPTION:Every Monday \nRange Reserved: Yes. \nPreregistration Needed: No. \nPrequalification Required: New shooters arrive at 5:15pm – 5:30pm \nFor more information\, click here
URL:https://dspclub.org/event/action-pistol-w-carbine-2-2-2-2/2026-03-23/
LOCATION:Delaware State Pistol Club\, 624 Moores Lane\, New Castle\, DE\, 19720\, United States
CATEGORIES:Public Events,Range Reserved
ATTACH;FMTTYPE=image/jpeg:https://dspclub.org/wp-content/uploads/2024/10/AP_2-scaled.jpg
END:VEVENT
BEGIN:VEVENT
DTSTART;TZID=America/New_York:20260324T160000
DTEND;TZID=America/New_York:20260324T190000
DTSTAMP:20260422T112148
CREATED:20260127T131648Z
LAST-MODIFIED:20260127T131648Z
UID:10011077-1774368000-1774378800@dspclub.org
SUMMARY:Bullseye
DESCRIPTION:Tuesday League. \nRange Reserved: Yes. \nPreregistration Needed: No. \n4:00pm – 5:00pm Setup \nEvent begins at 5:00pm \n 
URL:https://dspclub.org/event/bullseye-league-2/2026-03-24/
LOCATION:Delaware State Pistol Club\, 624 Moores Lane\, New Castle\, DE\, 19720\, United States
CATEGORIES:Public Events,Range Reserved
ATTACH;FMTTYPE=image/jpeg:https://dspclub.org/wp-content/uploads/2016/06/Home-page-picture.jpg
END:VEVENT
BEGIN:VEVENT
DTSTART;TZID=America/New_York:20260325T170000
DTEND;TZID=America/New_York:20260325T210000
DTSTAMP:20260422T112148
CREATED:20260128T073456Z
LAST-MODIFIED:20260128T073456Z
UID:10011529-1774458000-1774472400@dspclub.org
SUMMARY:Non-Competitive Pistol Accuracy and Defensive Drills
DESCRIPTION:6:00pm – 9:00pm \nRange reserved – Yes \nRegistration Required \nNew Participants need to arrive at lease 30 minutes prior to start for a safety brief and small qualification. (If previously qualified for Action Pistol no briefing is needed.) \nHolster use mandatory. \nNot suggested for first-time shooters. Participants are expected to have some basic pistol knowledge. \nOpen to public. \nCost: $3 for club members and $5 for non-club members.
URL:https://dspclub.org/event/non-competitive-pistol-accuracy-and-defensive-drills/2026-03-25/
LOCATION:Delaware State Pistol Club\, 624 Moores Lane\, New Castle\, DE\, 19720\, United States
CATEGORIES:Public Events,Range Reserved
ATTACH;FMTTYPE=image/jpeg:https://dspclub.org/wp-content/uploads/2025/08/Non-comp-2-scaled.jpg
END:VEVENT
BEGIN:VEVENT
DTSTART;TZID=America/New_York:20260326T160000
DTEND;TZID=America/New_York:20260326T190000
DTSTAMP:20260422T112148
CREATED:20260127T131337Z
LAST-MODIFIED:20260127T131338Z
UID:10010817-1774540800-1774551600@dspclub.org
SUMMARY:Bullseye
DESCRIPTION:Thursday League. \nRange Reserved: Yes. \nPreregistration Needed: No. \n4:00pm – 5:00pm set-up. \nEvent Begins at 5:00pm
URL:https://dspclub.org/event/bullseye-league-2-2/2026-03-26/
LOCATION:Delaware State Pistol Club\, 624 Moores Lane\, New Castle\, DE\, 19720\, United States
CATEGORIES:Public Events,Range Reserved
ATTACH;FMTTYPE=image/jpeg:https://dspclub.org/wp-content/uploads/2024/10/Bullseye_League_1_01.2025-scaled.jpg
END:VEVENT
BEGIN:VEVENT
DTSTART;TZID=America/New_York:20260327T170000
DTEND;TZID=America/New_York:20260327T210000
DTSTAMP:20260422T112148
CREATED:20250608T103516Z
LAST-MODIFIED:20260129T121323Z
UID:10008017-1774630800-1774645200@dspclub.org
SUMMARY:Silhouettes Shooting
DESCRIPTION:.22LR pistols and rifles only \nRange Reserved: Yes. \nPreregistration Needed: No. \nfor more information click here \n 
URL:https://dspclub.org/event/silhouettes-shooting-league-2-2-2/2026-03-27/
LOCATION:Delaware State Pistol Club\, 624 Moores Lane\, New Castle\, DE\, 19720\, United States
CATEGORIES:Public Events,Range Reserved
ATTACH;FMTTYPE=image/jpeg:https://dspclub.org/wp-content/uploads/2014/06/silhouettes2.jpg
END:VEVENT
END:VCALENDAR