BEGIN:VCALENDAR
VERSION:2.0
PRODID:-//Delaware State Pistol Club - ECPv6.15.20//NONSGML v1.0//EN
CALSCALE:GREGORIAN
METHOD:PUBLISH
X-ORIGINAL-URL:https://dspclub.org
X-WR-CALDESC:Events for Delaware State Pistol Club
REFRESH-INTERVAL;VALUE=DURATION:PT1H
X-Robots-Tag:noindex
X-PUBLISHED-TTL:PT1H
BEGIN:VTIMEZONE
TZID:America/New_York
BEGIN:DAYLIGHT
TZOFFSETFROM:-0500
TZOFFSETTO:-0400
TZNAME:EDT
DTSTART:20250309T070000
END:DAYLIGHT
BEGIN:STANDARD
TZOFFSETFROM:-0400
TZOFFSETTO:-0500
TZNAME:EST
DTSTART:20251102T060000
END:STANDARD
BEGIN:DAYLIGHT
TZOFFSETFROM:-0500
TZOFFSETTO:-0400
TZNAME:EDT
DTSTART:20260308T070000
END:DAYLIGHT
BEGIN:STANDARD
TZOFFSETFROM:-0400
TZOFFSETTO:-0500
TZNAME:EST
DTSTART:20261101T060000
END:STANDARD
BEGIN:DAYLIGHT
TZOFFSETFROM:-0500
TZOFFSETTO:-0400
TZNAME:EDT
DTSTART:20270314T070000
END:DAYLIGHT
BEGIN:STANDARD
TZOFFSETFROM:-0400
TZOFFSETTO:-0500
TZNAME:EST
DTSTART:20271107T060000
END:STANDARD
END:VTIMEZONE
BEGIN:VEVENT
DTSTART;TZID=America/New_York:20260406T170000
DTEND;TZID=America/New_York:20260406T210000
DTSTAMP:20260422T112838
CREATED:20260209T110512Z
LAST-MODIFIED:20260209T110513Z
UID:10011596-1775494800-1775509200@dspclub.org
SUMMARY:Action Pistol
DESCRIPTION:Every Monday \nRange Reserved: Yes. \nPreregistration Needed: No. \nPrequalification Required: New shooters arrive at 5:15pm – 5:30pm \nFor more information\, click here
URL:https://dspclub.org/event/action-pistol-w-carbine-2-2-2-2/2026-04-06/
LOCATION:Delaware State Pistol Club\, 624 Moores Lane\, New Castle\, DE\, 19720\, United States
CATEGORIES:Public Events,Range Reserved
ATTACH;FMTTYPE=image/jpeg:https://dspclub.org/wp-content/uploads/2024/10/AP_2-scaled.jpg
END:VEVENT
BEGIN:VEVENT
DTSTART;TZID=America/New_York:20260407T160000
DTEND;TZID=America/New_York:20260407T190000
DTSTAMP:20260422T112838
CREATED:20260127T131648Z
LAST-MODIFIED:20260127T131648Z
UID:10011079-1775577600-1775588400@dspclub.org
SUMMARY:Bullseye
DESCRIPTION:Tuesday League. \nRange Reserved: Yes. \nPreregistration Needed: No. \n4:00pm – 5:00pm Setup \nEvent begins at 5:00pm \n 
URL:https://dspclub.org/event/bullseye-league-2/2026-04-07/
LOCATION:Delaware State Pistol Club\, 624 Moores Lane\, New Castle\, DE\, 19720\, United States
CATEGORIES:Public Events,Range Reserved
ATTACH;FMTTYPE=image/jpeg:https://dspclub.org/wp-content/uploads/2016/06/Home-page-picture.jpg
END:VEVENT
BEGIN:VEVENT
DTSTART;TZID=America/New_York:20260408T100000
DTEND;TZID=America/New_York:20260408T120000
DTSTAMP:20260422T112838
CREATED:20260223T010732Z
LAST-MODIFIED:20260223T011133Z
UID:10009117-1775642400-1775649600@dspclub.org
SUMMARY:Delaware Patriot Safety Training
DESCRIPTION:Range Reserved: Yes. \nOn Mondays and Wednesdays from 10am – 12pm\, the range is reserved by Delaware Patriot for safety training of private clients.
URL:https://dspclub.org/event/delaware-patriot-safety-training-2/2026-04-08/
LOCATION:Delaware State Pistol Club\, 624 Moores Lane\, New Castle\, DE\, 19720\, United States
CATEGORIES:Range Reserved
ATTACH;FMTTYPE=image/png:https://dspclub.org/wp-content/uploads/2026/01/logo.png
END:VEVENT
BEGIN:VEVENT
DTSTART;TZID=America/New_York:20260408T170000
DTEND;TZID=America/New_York:20260408T210000
DTSTAMP:20260422T112838
CREATED:20260119T184359Z
LAST-MODIFIED:20260128T073002Z
UID:10010237-1775667600-1775682000@dspclub.org
SUMMARY:Non-Competitive Pistol Accuracy and Defensive Drills
DESCRIPTION:6:00pm – 9:00pm \nRange reserved – Yes \nRegistration Required \nNew Participants need to arrive at lease 30 minutes prior to start for a safety brief and small qualification. (If previously qualified for Action Pistol no briefing is needed.) \nHolster use mandatory. \nNot suggested for first-time shooters. Participants are expected to have some basic pistol knowledge. \nOpen to public. \nCost: $3 for club members and $5 for non-club members.
URL:https://dspclub.org/event/pistol-skills-experience-3/2026-04-08/
LOCATION:Delaware State Pistol Club\, 624 Moores Lane\, New Castle\, DE\, 19720\, United States
CATEGORIES:Public Events,Range Reserved
ATTACH;FMTTYPE=image/jpeg:https://dspclub.org/wp-content/uploads/2025/08/Non-comp-2-scaled.jpg
END:VEVENT
BEGIN:VEVENT
DTSTART;TZID=America/New_York:20260409T160000
DTEND;TZID=America/New_York:20260409T190000
DTSTAMP:20260422T112838
CREATED:20260127T131337Z
LAST-MODIFIED:20260127T131338Z
UID:10010819-1775750400-1775761200@dspclub.org
SUMMARY:Bullseye
DESCRIPTION:Thursday League. \nRange Reserved: Yes. \nPreregistration Needed: No. \n4:00pm – 5:00pm set-up. \nEvent Begins at 5:00pm
URL:https://dspclub.org/event/bullseye-league-2-2/2026-04-09/
LOCATION:Delaware State Pistol Club\, 624 Moores Lane\, New Castle\, DE\, 19720\, United States
CATEGORIES:Public Events,Range Reserved
ATTACH;FMTTYPE=image/jpeg:https://dspclub.org/wp-content/uploads/2024/10/Bullseye_League_1_01.2025-scaled.jpg
END:VEVENT
BEGIN:VEVENT
DTSTART;TZID=America/New_York:20260410T170000
DTEND;TZID=America/New_York:20260410T210000
DTSTAMP:20260422T112838
CREATED:20250608T103516Z
LAST-MODIFIED:20260129T121323Z
UID:10008019-1775840400-1775854800@dspclub.org
SUMMARY:Silhouettes Shooting
DESCRIPTION:.22LR pistols and rifles only \nRange Reserved: Yes. \nPreregistration Needed: No. \nfor more information click here \n 
URL:https://dspclub.org/event/silhouettes-shooting-league-2-2-2/2026-04-10/
LOCATION:Delaware State Pistol Club\, 624 Moores Lane\, New Castle\, DE\, 19720\, United States
CATEGORIES:Public Events,Range Reserved
ATTACH;FMTTYPE=image/jpeg:https://dspclub.org/wp-content/uploads/2014/06/silhouettes2.jpg
END:VEVENT
BEGIN:VEVENT
DTSTART;TZID=America/New_York:20260411T090000
DTEND;TZID=America/New_York:20260411T150000
DTSTAMP:20260422T112838
CREATED:20260402T114703Z
LAST-MODIFIED:20260402T114703Z
UID:10011995-1775898000-1775919600@dspclub.org
SUMMARY:DSPC Spring Clean-up Days
DESCRIPTION:Saturday April 11\, 2026 and Sunday\, April 12\, 2026 (if needed) \nGeneral spring-cleaning of the property and indoors \nWinter debris clean-up from lawn\, small area of fence painting\, vine removal from fence\, clubhouse freshen-up (clean tabletops\, clean refrigerator\, mop bath and kitchen floors)\, dusting\, vacuuming or anything that you think needs some attention. \nBring appropriate equipment for what you can help with doing. Leaf blowers\, rakes\, trimmer\, pruning tool\, chainsaw\, etc. \nWear appropriate clothing. Work gloves recommended. \nYou will receive and work credit for 2027 dues discount. \nSunday or the second day only if needed.
URL:https://dspclub.org/event/dspc-spring-clean-up-days/
LOCATION:Delaware State Pistol Club\, 624 Moores Lane\, New Castle\, DE\, 19720\, United States
CATEGORIES:Public Events
ATTACH;FMTTYPE=image/png:https://dspclub.org/wp-content/uploads/2023/03/DSPC-Draft-2-Yellow-on-Blue.png
END:VEVENT
BEGIN:VEVENT
DTSTART;TZID=America/New_York:20260411T160000
DTEND;TZID=America/New_York:20260411T190000
DTSTAMP:20260422T112838
CREATED:20260319T122829Z
LAST-MODIFIED:20260319T122829Z
UID:10011869-1775923200-1775934000@dspclub.org
SUMMARY:Multi-State Concealed Carry Licensing Class
DESCRIPTION:April 11 and April 12 4:00-pm – 7:00pm \nHosted by Alex Ballard\, Civilian Defense Concepts & Principles \nThis class will provide you with the prerequisite training to apply for a concealed carry license in NJ\, DE & MD. \nMembers of the Delaware State Pistol Club receive a 20% discount \nContact: Firearms Training – Civilian Self-Defense Concepts & Principles
URL:https://dspclub.org/event/multi-state-concealed-carry-licensing-class/2026-04-11/
LOCATION:Delaware State Pistol Club\, 624 Moores Lane\, New Castle\, DE\, 19720\, United States
CATEGORIES:Clubhouse Reserved,Public Events,Range Reserved
END:VEVENT
BEGIN:VEVENT
DTSTART;TZID=America/New_York:20260412T160000
DTEND;TZID=America/New_York:20260412T190000
DTSTAMP:20260422T112838
CREATED:20260319T122829Z
LAST-MODIFIED:20260319T122829Z
UID:10011870-1776009600-1776020400@dspclub.org
SUMMARY:Multi-State Concealed Carry Licensing Class
DESCRIPTION:April 11 and April 12 4:00-pm – 7:00pm \nHosted by Alex Ballard\, Civilian Defense Concepts & Principles \nThis class will provide you with the prerequisite training to apply for a concealed carry license in NJ\, DE & MD. \nMembers of the Delaware State Pistol Club receive a 20% discount \nContact: Firearms Training – Civilian Self-Defense Concepts & Principles
URL:https://dspclub.org/event/multi-state-concealed-carry-licensing-class/2026-04-12/
LOCATION:Delaware State Pistol Club\, 624 Moores Lane\, New Castle\, DE\, 19720\, United States
CATEGORIES:Clubhouse Reserved,Public Events,Range Reserved
END:VEVENT
END:VCALENDAR